BEGIN:VCALENDAR
VERSION:2.0
PRODID:-//Wynspub - ECPv6.15.20//NONSGML v1.0//EN
CALSCALE:GREGORIAN
METHOD:PUBLISH
X-ORIGINAL-URL:https://wynspub.ch
X-WR-CALDESC:Veranstaltungen im Wynspub
REFRESH-INTERVAL;VALUE=DURATION:PT1H
X-Robots-Tag:noindex
X-PUBLISHED-TTL:PT1H
BEGIN:VTIMEZONE
TZID:Europe/Zurich
BEGIN:DAYLIGHT
TZOFFSETFROM:+0100
TZOFFSETTO:+0200
TZNAME:CEST
DTSTART:20230326T010000
END:DAYLIGHT
BEGIN:STANDARD
TZOFFSETFROM:+0200
TZOFFSETTO:+0100
TZNAME:CET
DTSTART:20231029T010000
END:STANDARD
BEGIN:DAYLIGHT
TZOFFSETFROM:+0100
TZOFFSETTO:+0200
TZNAME:CEST
DTSTART:20240331T010000
END:DAYLIGHT
BEGIN:STANDARD
TZOFFSETFROM:+0200
TZOFFSETTO:+0100
TZNAME:CET
DTSTART:20241027T010000
END:STANDARD
BEGIN:DAYLIGHT
TZOFFSETFROM:+0100
TZOFFSETTO:+0200
TZNAME:CEST
DTSTART:20250330T010000
END:DAYLIGHT
BEGIN:STANDARD
TZOFFSETFROM:+0200
TZOFFSETTO:+0100
TZNAME:CET
DTSTART:20251026T010000
END:STANDARD
END:VTIMEZONE
BEGIN:VEVENT
DTSTART;TZID=Europe/Zurich:20240727T160000
DTEND;TZID=Europe/Zurich:20240728T010000
DTSTAMP:20260419T194335
CREATED:20240322T140047Z
LAST-MODIFIED:20240326T120035Z
UID:3767-1722096000-1722128400@wynspub.ch
SUMMARY:Grillen\, Chillen\, Bierchen killen !
DESCRIPTION:Grillen\nErleben Sie mit uns einen unvergesslichen Nachmittag und Abend\nmit leckerem Bratwürstchen\, eiskalten Getränken und toller Gesellschaft.
URL:https://wynspub.ch/event/grillen-chillen-bierchen-killen/
LOCATION:Wyn`s Pub Wynental\, Mitteldorfstasse 11\, Gränichen\, Aargau\, 5722\, Switzerland
CATEGORIES:Events,Gränichen
ATTACH;FMTTYPE=image/png:https://wynspub.ch/wp-content/uploads/2024/03/27.07.2024-1700-A4.png
ORGANIZER;CN="Wyn`s Pub Wynental":MAILTO:mail@wynspub.ch
END:VEVENT
BEGIN:VEVENT
DTSTART;VALUE=DATE:20240728
DTEND;VALUE=DATE:20240814
DTSTAMP:20260419T194335
CREATED:20240319T161815Z
LAST-MODIFIED:20240809T092826Z
UID:3759-1722139200-1723521599@wynspub.ch
SUMMARY:Betriebsferien
DESCRIPTION:Betriebsferien\nSehr geehrte Kundinnen und Kunden.\nUnser Geschäft bleibt infolge Betriebsferien wie folgt geschlossen:\n28. Juli 2024 – 12. August 2024\nWir freuen uns\, Sie nach unseren Ferien wieder bedienen zu dürfen!\n\n \nAktualesierung: 09.08.2024
URL:https://wynspub.ch/event/betriebsferien/
LOCATION:Wyn`s Pub Wynental\, Mitteldorfstasse 11\, Gränichen\, Aargau\, 5722\, Switzerland
CATEGORIES:Events,Gränichen
ATTACH;FMTTYPE=image/png:https://wynspub.ch/wp-content/uploads/2024/03/Betriebsferien-2024-A4-2.1.png
ORGANIZER;CN="Wyn`s Pub Wynental":MAILTO:mail@wynspub.ch
END:VEVENT
END:VCALENDAR