BEGIN:VCALENDAR
VERSION:2.0
PRODID:-//Wynspub - ECPv6.15.20//NONSGML v1.0//EN
CALSCALE:GREGORIAN
METHOD:PUBLISH
X-ORIGINAL-URL:https://wynspub.ch
X-WR-CALDESC:Veranstaltungen im Wynspub
REFRESH-INTERVAL;VALUE=DURATION:PT1H
X-Robots-Tag:noindex
X-PUBLISHED-TTL:PT1H
BEGIN:VTIMEZONE
TZID:Europe/Zurich
BEGIN:DAYLIGHT
TZOFFSETFROM:+0100
TZOFFSETTO:+0200
TZNAME:CEST
DTSTART:20230326T010000
END:DAYLIGHT
BEGIN:STANDARD
TZOFFSETFROM:+0200
TZOFFSETTO:+0100
TZNAME:CET
DTSTART:20231029T010000
END:STANDARD
BEGIN:DAYLIGHT
TZOFFSETFROM:+0100
TZOFFSETTO:+0200
TZNAME:CEST
DTSTART:20240331T010000
END:DAYLIGHT
BEGIN:STANDARD
TZOFFSETFROM:+0200
TZOFFSETTO:+0100
TZNAME:CET
DTSTART:20241027T010000
END:STANDARD
BEGIN:DAYLIGHT
TZOFFSETFROM:+0100
TZOFFSETTO:+0200
TZNAME:CEST
DTSTART:20250330T010000
END:DAYLIGHT
BEGIN:STANDARD
TZOFFSETFROM:+0200
TZOFFSETTO:+0100
TZNAME:CET
DTSTART:20251026T010000
END:STANDARD
END:VTIMEZONE
BEGIN:VEVENT
DTSTART;TZID=Europe/Zurich:20240830T200000
DTEND;TZID=Europe/Zurich:20240831T010000
DTSTAMP:20260419T180830
CREATED:20240814T135428Z
LAST-MODIFIED:20240814T142104Z
UID:4046-1725048000-1725066000@wynspub.ch
SUMMARY:Schlager Party im Wyn`s Pub
DESCRIPTION:Schlager Party\nmit DJ Monti\nBarbetrieb: 17:00 – 02:00 Uhr\nDJ 21:00 – 02:00 Uhr
URL:https://wynspub.ch/event/schlager-party-im-wyns-pub/
LOCATION:Wyn`s Pub Wynental\, Mitteldorfstasse 11\, Gränichen\, Aargau\, 5722\, Switzerland
CATEGORIES:Events,Gränichen
ATTACH;FMTTYPE=image/png:https://wynspub.ch/wp-content/uploads/2024/08/Schlagerparty-mit-DJ-Monti-A4-001.png
ORGANIZER;CN="Wyn`s Pub Wynental":MAILTO:mail@wynspub.ch
END:VEVENT
END:VCALENDAR