BEGIN:VCALENDAR
VERSION:2.0
PRODID:-//Wynspub - ECPv6.15.20//NONSGML v1.0//EN
CALSCALE:GREGORIAN
METHOD:PUBLISH
X-ORIGINAL-URL:https://wynspub.ch
X-WR-CALDESC:Veranstaltungen im Wynspub
REFRESH-INTERVAL;VALUE=DURATION:PT1H
X-Robots-Tag:noindex
X-PUBLISHED-TTL:PT1H
BEGIN:VTIMEZONE
TZID:Europe/Zurich
BEGIN:DAYLIGHT
TZOFFSETFROM:+0100
TZOFFSETTO:+0200
TZNAME:CEST
DTSTART:20240331T010000
END:DAYLIGHT
BEGIN:STANDARD
TZOFFSETFROM:+0200
TZOFFSETTO:+0100
TZNAME:CET
DTSTART:20241027T010000
END:STANDARD
BEGIN:DAYLIGHT
TZOFFSETFROM:+0100
TZOFFSETTO:+0200
TZNAME:CEST
DTSTART:20250330T010000
END:DAYLIGHT
BEGIN:STANDARD
TZOFFSETFROM:+0200
TZOFFSETTO:+0100
TZNAME:CET
DTSTART:20251026T010000
END:STANDARD
BEGIN:DAYLIGHT
TZOFFSETFROM:+0100
TZOFFSETTO:+0200
TZNAME:CEST
DTSTART:20260329T010000
END:DAYLIGHT
BEGIN:STANDARD
TZOFFSETFROM:+0200
TZOFFSETTO:+0100
TZNAME:CET
DTSTART:20261025T010000
END:STANDARD
END:VTIMEZONE
BEGIN:VEVENT
DTSTART;TZID=Europe/Zurich:20250214T220000
DTEND;TZID=Europe/Zurich:20250215T030000
DTSTAMP:20260419T192228
CREATED:20240913T132612Z
LAST-MODIFIED:20250211T150320Z
UID:4068-1739570400-1739588400@wynspub.ch
SUMMARY:Party Freitag mit DJ Hochi
DESCRIPTION:Valentinstagsparty im Wyn’s Pub Gränichen!\nFeier mit uns am Freitag\, den 14. Februar 2025\, zum Valentinstag! \nWir freuen uns\, DJ Hochi aus Gränichen bei uns zu haben\, der ab 21:00 Uhr für die besten Beats sorgt. \nDie Bar öffnet wie gewohnt um 17:00 Uhr – komm vorbei\, genieße unsere Drinks und bereite dich auf eine unvergessliche Nacht vor! \nDJ Hochi hat bereits bei unserem einjährigen Jubiläumsfest am 1. November für großartige Stimmung gesorgt\, und wir sind uns sicher\, dass auch dieser Abend ein voller Erfolg wird. \nWir freuen uns auf dich! \nWyn’s Pub Gränichen – der perfekte Ort\, um den Valentinstag zu feiern!
URL:https://wynspub.ch/event/valentinstag-freitag-14-02-2024/
LOCATION:Wyn`s Pub Wynental\, Mitteldorfstasse 11\, Gränichen\, Aargau\, 5722\, Switzerland
CATEGORIES:Events,Gränichen
ATTACH;FMTTYPE=image/png:https://wynspub.ch/wp-content/uploads/2024/09/Valentinstag-14.02.2025-A4-6.0.png
ORGANIZER;CN="Wyn`s Pub Wynental":MAILTO:mail@wynspub.ch
END:VEVENT
END:VCALENDAR