BEGIN:VCALENDAR
VERSION:2.0
PRODID:-//Wynspub - ECPv6.15.20//NONSGML v1.0//EN
CALSCALE:GREGORIAN
METHOD:PUBLISH
X-WR-CALNAME:Wynspub
X-ORIGINAL-URL:https://wynspub.ch
X-WR-CALDESC:Veranstaltungen im Wynspub
REFRESH-INTERVAL;VALUE=DURATION:PT1H
X-Robots-Tag:noindex
X-PUBLISHED-TTL:PT1H
BEGIN:VTIMEZONE
TZID:Europe/Zurich
BEGIN:DAYLIGHT
TZOFFSETFROM:+0100
TZOFFSETTO:+0200
TZNAME:CEST
DTSTART:20240331T010000
END:DAYLIGHT
BEGIN:STANDARD
TZOFFSETFROM:+0200
TZOFFSETTO:+0100
TZNAME:CET
DTSTART:20241027T010000
END:STANDARD
BEGIN:DAYLIGHT
TZOFFSETFROM:+0100
TZOFFSETTO:+0200
TZNAME:CEST
DTSTART:20250330T010000
END:DAYLIGHT
BEGIN:STANDARD
TZOFFSETFROM:+0200
TZOFFSETTO:+0100
TZNAME:CET
DTSTART:20251026T010000
END:STANDARD
BEGIN:DAYLIGHT
TZOFFSETFROM:+0100
TZOFFSETTO:+0200
TZNAME:CEST
DTSTART:20260329T010000
END:DAYLIGHT
BEGIN:STANDARD
TZOFFSETFROM:+0200
TZOFFSETTO:+0100
TZNAME:CET
DTSTART:20261025T010000
END:STANDARD
END:VTIMEZONE
BEGIN:VEVENT
DTSTART;TZID=Europe/Zurich:20250503T200000
DTEND;TZID=Europe/Zurich:20250503T220000
DTSTAMP:20260421T132954
CREATED:20241204T092847Z
LAST-MODIFIED:20250503T060156Z
UID:4233-1746302400-1746309600@wynspub.ch
SUMMARY:Live Band The Green Goblins
DESCRIPTION:Mitreißende Lieder – lebhafte Melodien – epische Balladen \nDie internationale Band The Green Goblins verbindet ihre gemeinsame Liebe zur keltischen Musik. Mit ihrer Begeisterung für Folk’n’Roll bringen sie ihr Publikum mitreißenden Liedern und schwungvollen Klängen zum Feiern.  \nDie Green Goblins spielen mit dem Unerwarteten und überraschen mit ihren eigenen Liedern und Melodien im Geiste des Folk ’n Roll neben traditionellen Melodien. Ob Festival\, Kneipe oder Party\, mit ihrer langjährigen Spielerfahrung holen sie das Publikum dort ab\, wo es ist und laden es ein\, mit ihnen durch die Welt des Folk zu tanzen. \n\n\n\nThrilling SONGS – LIVELY TUNES – EPIC BALLADS\nThe international band The Green Goblins are united by their shared love of Celtic music.\nWith their enthusiasm for folk ’n roll\, they make their audience celebrate with heart\, thrilling songs and lively tunes. The Green Goblins play with the unexpected and surprise with their own songs and tunes in the spirit of folk ’n roll alongside traditional tunes. Whether festival\, pub or party\, with their many years of playing experience they meet the audience where they are and invite them to dance with them through the w \norld of folk.
URL:https://wynspub.ch/event/live-band-the-green-goblins/
LOCATION:Wyn`s Pub Wynental\, Mitteldorfstasse 11\, Gränichen\, Aargau\, 5722\, Switzerland
CATEGORIES:Events,Gränichen
ATTACH;FMTTYPE=image/png:https://wynspub.ch/wp-content/uploads/2024/12/The-Green-Goblins-A4-03.05.2025-SA-1.0.png
ORGANIZER;CN="Wyn`s Pub Wynental":MAILTO:mail@wynspub.ch
END:VEVENT
END:VCALENDAR