BEGIN:VCALENDAR
VERSION:2.0
PRODID:-//Wynspub - ECPv6.15.20//NONSGML v1.0//EN
CALSCALE:GREGORIAN
METHOD:PUBLISH
X-ORIGINAL-URL:https://wynspub.ch
X-WR-CALDESC:Veranstaltungen im Wynspub
REFRESH-INTERVAL;VALUE=DURATION:PT1H
X-Robots-Tag:noindex
X-PUBLISHED-TTL:PT1H
BEGIN:VTIMEZONE
TZID:Europe/Zurich
BEGIN:DAYLIGHT
TZOFFSETFROM:+0100
TZOFFSETTO:+0200
TZNAME:CEST
DTSTART:20240331T010000
END:DAYLIGHT
BEGIN:STANDARD
TZOFFSETFROM:+0200
TZOFFSETTO:+0100
TZNAME:CET
DTSTART:20241027T010000
END:STANDARD
BEGIN:DAYLIGHT
TZOFFSETFROM:+0100
TZOFFSETTO:+0200
TZNAME:CEST
DTSTART:20250330T010000
END:DAYLIGHT
BEGIN:STANDARD
TZOFFSETFROM:+0200
TZOFFSETTO:+0100
TZNAME:CET
DTSTART:20251026T010000
END:STANDARD
BEGIN:DAYLIGHT
TZOFFSETFROM:+0100
TZOFFSETTO:+0200
TZNAME:CEST
DTSTART:20260329T010000
END:DAYLIGHT
BEGIN:STANDARD
TZOFFSETFROM:+0200
TZOFFSETTO:+0100
TZNAME:CET
DTSTART:20261025T010000
END:STANDARD
END:VTIMEZONE
BEGIN:VEVENT
DTSTART;TZID=Europe/Zurich:20250202T180000
DTEND;TZID=Europe/Zurich:20250202T230000
DTSTAMP:20260419T155614
CREATED:20241127T123302Z
LAST-MODIFIED:20241127T123302Z
UID:4229-1738519200-1738537200@wynspub.ch
SUMMARY:JA WIR HABEN GEÖFFNET – Februar 2025
DESCRIPTION:Wir haben jeden ersten Sonntag im Monat geöffnet und laden alle herzlich ein\, vorbeizukommen\, um zu plaudern und etwas zu trinken.
URL:https://wynspub.ch/event/ja-wir-haben-geoeffnet-februar-2025/
LOCATION:Wyn`s Pub Wynental\, Mitteldorfstasse 11\, Gränichen\, Aargau\, 5722\, Switzerland
CATEGORIES:Events,Gränichen
ATTACH;FMTTYPE=image/png:https://wynspub.ch/wp-content/uploads/2024/11/04-offner-Sonntag-Feb.-2025-A4-1.1-.png
ORGANIZER;CN="Wyn`s Pub Wynental":MAILTO:mail@wynspub.ch
END:VEVENT
BEGIN:VEVENT
DTSTART;TZID=Europe/Zurich:20250207T220000
DTEND;TZID=Europe/Zurich:20250208T030000
DTSTAMP:20260419T155614
CREATED:20250123T073858Z
LAST-MODIFIED:20250123T073859Z
UID:4257-1738965600-1738983600@wynspub.ch
SUMMARY:Party Night im Wyn`s Pub Wynental
DESCRIPTION:Party Night mit DJ Mario!\nBereite dich auf einen unvergesslichen Abend voller Musik und guter Laune vor! Unsere Party Night mit DJ Mario steht vor der Tür und verspricht jede Menge Spaß und tolle Beats. \nAb 17:00 Uhr öffnen wir die Bar für dich.\nGenieße unsere köstlichen Drinks und lass dich von dem gemütlichen Ambiente im Wyn’s Pub Wynental verzaubern. Egal\, ob du mit Freunden kommst oder neue Bekanntschaften schließen möchtest – hier ist jeder herzlich willkommen! \nAb 21:00 Uhr geht’s dann richtig los!\nDJ Mario wird mit seinen mitreißenden Klängen die Tanzfläche zum Beben bringen. Lass dich von seinen besten Hits mitreißen und tanze bis in die frühen Morgenstunden! \n📍 Wo? Wyn’s Pub Wynental\nMitteldorfstrasse 11\, 5722 Gränichen\, Schweiz \nFür weitere Informationen oder Reservierungen erreichst du uns unter:\n📧 info@wynspub.ch (mailto:info@wynspub.ch) | 📞 076 499 5722 \nSchau vorbei und erlebe eine Nacht voller Musik\, Freude und unvergesslicher Momente! Wir freuen uns auf dich!
URL:https://wynspub.ch/event/party-night-im-wyns-pub-wynental/
LOCATION:Wyn`s Pub Wynental\, Mitteldorfstasse 11\, Gränichen\, Aargau\, 5722\, Switzerland
CATEGORIES:Events,Gränichen
ATTACH;FMTTYPE=image/png:https://wynspub.ch/wp-content/uploads/2025/01/07.02.2025-DJ-Mario-PNG.png
ORGANIZER;CN="Wyn`s Pub Wynental":MAILTO:mail@wynspub.ch
END:VEVENT
BEGIN:VEVENT
DTSTART;TZID=Europe/Zurich:20250214T220000
DTEND;TZID=Europe/Zurich:20250215T030000
DTSTAMP:20260419T155614
CREATED:20240913T132612Z
LAST-MODIFIED:20250211T150320Z
UID:4068-1739570400-1739588400@wynspub.ch
SUMMARY:Party Freitag mit DJ Hochi
DESCRIPTION:Valentinstagsparty im Wyn’s Pub Gränichen!\nFeier mit uns am Freitag\, den 14. Februar 2025\, zum Valentinstag! \nWir freuen uns\, DJ Hochi aus Gränichen bei uns zu haben\, der ab 21:00 Uhr für die besten Beats sorgt. \nDie Bar öffnet wie gewohnt um 17:00 Uhr – komm vorbei\, genieße unsere Drinks und bereite dich auf eine unvergessliche Nacht vor! \nDJ Hochi hat bereits bei unserem einjährigen Jubiläumsfest am 1. November für großartige Stimmung gesorgt\, und wir sind uns sicher\, dass auch dieser Abend ein voller Erfolg wird. \nWir freuen uns auf dich! \nWyn’s Pub Gränichen – der perfekte Ort\, um den Valentinstag zu feiern!
URL:https://wynspub.ch/event/valentinstag-freitag-14-02-2024/
LOCATION:Wyn`s Pub Wynental\, Mitteldorfstasse 11\, Gränichen\, Aargau\, 5722\, Switzerland
CATEGORIES:Events,Gränichen
ATTACH;FMTTYPE=image/png:https://wynspub.ch/wp-content/uploads/2024/09/Valentinstag-14.02.2025-A4-6.0.png
ORGANIZER;CN="Wyn`s Pub Wynental":MAILTO:mail@wynspub.ch
END:VEVENT
BEGIN:VEVENT
DTSTART;TZID=Europe/Zurich:20250219T170000
DTEND;TZID=Europe/Zurich:20250219T210000
DTSTAMP:20260419T155614
CREATED:20241107T152655Z
LAST-MODIFIED:20241212T112439Z
UID:4143-1739984400-1739998800@wynspub.ch
SUMMARY:Blutspenden in Gränichen
DESCRIPTION:BLUTSPENDEN\nMehrzweckhalle Gränichen \n \nBlutspenden in Gränichen  \nWir laden alle herzlich zur Blutspende in der Mehrzweckturnhalle Gränichen ein! \nWann: 19.02.2024\nUhrzeit: 16:00 – 20:00 Uhr \nWo: Mehrzweckturnhalle Gränichen \nMitteldorfstrasse 22/23\, Gränichen\, Aargau\, Schweiz \nJede Blutspende zählt und kann Leben retten! Kommt vorbei\, helft mit und macht einen Unterschied in der Gemeinschaft. Ob erfahrene Spender oder Neulinge – jeder ist willkommen! \nBitte bringt einen Ausweis mit und denkt daran\, ausreichend zu trinken und eine kleine Mahlzeit zu euch zu nehmen\, bevor ihr spenden kommt. \nWir freuen uns auf euch und danken euch für eure wertvolle Unterstützung! \nEuer Sanität Gränichen \nwww.sanitaet-graenichen.ch
URL:https://wynspub.ch/event/blutspenden-in-graenichen/
LOCATION:Mehrzweckturnhalle Gränichen\, Mitteldorfstrasse 22/23\, Gränichen\, Aargau\, 5722\, Switzerland
CATEGORIES:Gränichen
ATTACH;FMTTYPE=image/png:https://wynspub.ch/wp-content/uploads/2024/11/Sanitaet-blutspende-2.0.png
END:VEVENT
END:VCALENDAR