BEGIN:VCALENDAR
VERSION:2.0
PRODID:-//Wynspub - ECPv6.15.20//NONSGML v1.0//EN
CALSCALE:GREGORIAN
METHOD:PUBLISH
X-WR-CALNAME:Wynspub
X-ORIGINAL-URL:https://wynspub.ch
X-WR-CALDESC:Veranstaltungen im Wynspub
REFRESH-INTERVAL;VALUE=DURATION:PT1H
X-Robots-Tag:noindex
X-PUBLISHED-TTL:PT1H
BEGIN:VTIMEZONE
TZID:Europe/Zurich
BEGIN:DAYLIGHT
TZOFFSETFROM:+0100
TZOFFSETTO:+0200
TZNAME:CEST
DTSTART:20240331T010000
END:DAYLIGHT
BEGIN:STANDARD
TZOFFSETFROM:+0200
TZOFFSETTO:+0100
TZNAME:CET
DTSTART:20241027T010000
END:STANDARD
BEGIN:DAYLIGHT
TZOFFSETFROM:+0100
TZOFFSETTO:+0200
TZNAME:CEST
DTSTART:20250330T010000
END:DAYLIGHT
BEGIN:STANDARD
TZOFFSETFROM:+0200
TZOFFSETTO:+0100
TZNAME:CET
DTSTART:20251026T010000
END:STANDARD
BEGIN:DAYLIGHT
TZOFFSETFROM:+0100
TZOFFSETTO:+0200
TZNAME:CEST
DTSTART:20260329T010000
END:DAYLIGHT
BEGIN:STANDARD
TZOFFSETFROM:+0200
TZOFFSETTO:+0100
TZNAME:CET
DTSTART:20261025T010000
END:STANDARD
END:VTIMEZONE
BEGIN:VEVENT
DTSTART;TZID=Europe/Zurich:20250601T190000
DTEND;TZID=Europe/Zurich:20250602T000000
DTSTAMP:20260420T160539
CREATED:20250521T120509Z
LAST-MODIFIED:20250521T120509Z
UID:4388-1748804400-1748822400@wynspub.ch
SUMMARY:Offener Sonntag im Wyn`s Pub Wynental\, Gränichen
DESCRIPTION:Wir haben jeden ersten Sonntag im Monat geöffnet und laden alle herzlich ein\, vorbeizukommen\, um zu plaudern und etwas zu trinken.
URL:https://wynspub.ch/event/offener-sonntag-im-wyns-pub-wynental-graenichen/
LOCATION:Wyn`s Pub Wynental\, Mitteldorfstasse 11\, Gränichen\, Aargau\, 5722\, Switzerland
CATEGORIES:Events,Gränichen
ATTACH;FMTTYPE=image/png:https://wynspub.ch/wp-content/uploads/2025/05/01.06.2025.png
ORGANIZER;CN="Wyn`s Pub Wynental":MAILTO:mail@wynspub.ch
END:VEVENT
BEGIN:VEVENT
DTSTART;TZID=Europe/Zurich:20250614T230000
DTEND;TZID=Europe/Zurich:20250615T040000
DTSTAMP:20260420T160539
CREATED:20250501T083424Z
LAST-MODIFIED:20250501T083559Z
UID:4368-1749942000-1749960000@wynspub.ch
SUMMARY:EDM DANCE MIX 80 u. 90er
DESCRIPTION:EDM Dance Mix Best 80s & 90s\nmit DJ MINU\nDatum: 14. Juni 2025  \nUhrzeit: 21:00 Uhr bis 2:00 Uhr morgens  \nOrt: Wyn’s Pub Wynental   \n  \nSeid bereit für eine elektrische Nacht voller Energie und unvergesslicher Beats! Am 14. Juni lädt DJ Mino zur IDDM Dance Mix Night ein\, wo die besten EDM-Hits der letzten Jahrzehnte auf euch warten.  \nErlebt eine pulsierende AtmosphäreEvent Beschreibung: IDDM Dance Mix – Die besten EDM-Hits der 80er und 90er \nDatum: 14. Juni 2025  \nUhrzeit: 21:00 Uhr bis 2:00 Uhr morgens  \nOrt: Wyn’s Pub Wynental   \nBereitet euch auf eine Nacht voller pulsierender Beats und unvergesslicher Melodien vor! DJ Mino bringt euch die heißesten EDM-Klassiker der 80er und 90er Jahre und lässt euch in Ekstase verfallen. \nTaucht ein in eine Welt voller Euphorie\, wo die Grenzen zwischen Tanz und Rausch verschwimmen. Vom Techno bis zum Trance\, vom Electro bis zum House – diese Nacht hat für jeden Liebhaber elektronischer Tanzmusik etwas zu bieten. \nHolt eure besten Tanzschuhe raus\, versammelt eure Freunde und kommt ins Wyn’s Pub Wynental\, um gemeinsam zu feiern und die Nacht zum Tag zu machen. Lasst euch von den pulsierenden Rhythmen mitreißen und erlebt eine Reise durch die goldenen Zeiten der elektronischen Tanzmusik. \nHighlights:\n– Beste EDM-Hits der 80er und 90er mit DJ Mino\n– Elektrisierendes Ambiente im Wyn’s Pub\n– Tanzen bis in die frühen Morgenstunden \nVerpasst dieses einzigartige Event nicht – wir freuen uns auf euch!
URL:https://wynspub.ch/event/edm-dance-mix-80-u-90er/
LOCATION:Wyn`s Pub Wynental\, Mitteldorfstasse 11\, Gränichen\, Aargau\, 5722\, Switzerland
CATEGORIES:Events,Gränichen
ATTACH;FMTTYPE=image/png:https://wynspub.ch/wp-content/uploads/2025/05/Purple-Retro-Light-Music-Album-Cover-A4-001.png
ORGANIZER;CN="Wyn`s Pub Wynental":MAILTO:mail@wynspub.ch
END:VEVENT
END:VCALENDAR