BEGIN:VCALENDAR
VERSION:2.0
PRODID:-//Wynspub - ECPv6.15.20//NONSGML v1.0//EN
CALSCALE:GREGORIAN
METHOD:PUBLISH
X-ORIGINAL-URL:https://wynspub.ch
X-WR-CALDESC:Veranstaltungen im Wynspub
REFRESH-INTERVAL;VALUE=DURATION:PT1H
X-Robots-Tag:noindex
X-PUBLISHED-TTL:PT1H
BEGIN:VTIMEZONE
TZID:Europe/Zurich
BEGIN:DAYLIGHT
TZOFFSETFROM:+0100
TZOFFSETTO:+0200
TZNAME:CEST
DTSTART:20250330T010000
END:DAYLIGHT
BEGIN:STANDARD
TZOFFSETFROM:+0200
TZOFFSETTO:+0100
TZNAME:CET
DTSTART:20251026T010000
END:STANDARD
BEGIN:DAYLIGHT
TZOFFSETFROM:+0100
TZOFFSETTO:+0200
TZNAME:CEST
DTSTART:20260329T010000
END:DAYLIGHT
BEGIN:STANDARD
TZOFFSETFROM:+0200
TZOFFSETTO:+0100
TZNAME:CET
DTSTART:20261025T010000
END:STANDARD
BEGIN:DAYLIGHT
TZOFFSETFROM:+0100
TZOFFSETTO:+0200
TZNAME:CEST
DTSTART:20270328T010000
END:DAYLIGHT
BEGIN:STANDARD
TZOFFSETFROM:+0200
TZOFFSETTO:+0100
TZNAME:CET
DTSTART:20271031T010000
END:STANDARD
END:VTIMEZONE
BEGIN:VEVENT
DTSTART;TZID=Europe/Zurich:20261106T220000
DTEND;TZID=Europe/Zurich:20261107T020000
DTSTAMP:20260424T145547
CREATED:20260423T131928Z
LAST-MODIFIED:20260423T132020Z
UID:11011-1794002400-1794016800@wynspub.ch
SUMMARY:Coyote Ugly Party im Wyn`s Pub Wynental
DESCRIPTION:Coyote Ugly Party\n06. November 2026\n\nDie Nacht\, die du nicht vergessen wirst. \nAm 6. November 2026 öffnet der Wyn’s Pub Wynental bereits ab 17:00 Uhr seine Türen – Zeit\, den Abend gemütlich einzuläuten\, bevor es richtig losgeht. \nAb 22:00 Uhr wird die Bühne heiss: Erlebe eine atemberaubende Live Show von Splendid Dancers – Pole Dance auf höchstem Niveau\, der dir den Atem verschlägt und die Nacht unvergesslich macht. Und wer weiss – vielleicht serviert dir die Dame danach noch deinen nächsten Shot direkt an die Bar. \n\nWas dich erwartet:\n\nBar & Drinks ab 17:00 Uhr\nFeurige Live Show von Splendid Dancers ab 22:00 Uhr\nShots & Drinks – direkt zu dir gebracht\nUnvergessliche Partynacht im Wyn’s Pub Wynental\n\n\n\n\n\nDatum:\nFreitag\, 06. November 2026\n\n\nBar offen:\nAb 17:00 Uhr\n\n\nLive Show:\nAb 22:00 Uhr\n\n\nOrt:\nWyn’s Pub Wynental\, Mitteldorfstrasse 12\, 5722 Gränichen\n\n\nWeb:\nwynspub.ch\n\n\nE-Mail:\nmail@wynspub.ch\n\n\nTelefon:\n076 499 5722\n\n\n\n\nSei dabei – denn wer diese Nacht verpasst\, verpasst alles.
URL:https://wynspub.ch/event/coyote-ugly-party-im-wyns-pub-wynental/
LOCATION:Wyn`s Pub Wynental\, Mitteldorfstasse 11\, Gränichen\, Aargau\, 5722\, Switzerland
CATEGORIES:Events,Gränichen
ATTACH;FMTTYPE=image/png:https://wynspub.ch/wp-content/uploads/2026/04/Live-Dance-Coyote-Ugly-Party-Red-06.11.2026-A4-3.1.png
ORGANIZER;CN="Wyn`s Pub Wynental":MAILTO:mail@wynspub.ch
END:VEVENT
END:VCALENDAR